BEGIN:VCALENDAR
VERSION:2.0
PRODID:-//hacksw/handcal//NONSGML v1.0//EN
BEGIN:VEVENT
UID:17855
DTSTART;VALUE=DATE:20240329
URL;VALUE=URI:ohschonhell.at/?page_id=39649
SUMMARY:CHEVAL brutal
LOCATION:Der Ponyhof
END:VEVENT
END:VCALENDAR


