BEGIN:VCALENDAR
VERSION:2.0
PRODID:-//hacksw/handcal//NONSGML v1.0//EN
BEGIN:VEVENT
UID:17858
DTSTART;VALUE=DATE:20240409
URL;VALUE=URI:ohschonhell.at/?page_id=39655
SUMMARY:Back on Track
LOCATION:Der Ponyhof
END:VEVENT
END:VCALENDAR


