BEGIN:VCALENDAR
VERSION:2.0
PRODID:-//hacksw/handcal//NONSGML v1.0//EN
BEGIN:VEVENT
UID:17861
DTSTART;VALUE=DATE:20240329
URL;VALUE=URI:ohschonhell.at/?page_id=39662
SUMMARY:D4rkF0r3sT[23]TEKN0_R4VE
LOCATION:Na Nang CLub
END:VEVENT
END:VCALENDAR


