BEGIN:VCALENDAR
VERSION:2.0
PRODID:-//hacksw/handcal//NONSGML v1.0//EN
BEGIN:VEVENT
UID:17863
DTSTART;VALUE=DATE:20240404
URL;VALUE=URI:ohschonhell.at/?page_id=39666
SUMMARY:AFTERWORKOUT | hausgemacht
LOCATION:Der Ponyhof
END:VEVENT
END:VCALENDAR


