BEGIN:VCALENDAR
VERSION:2.0
PRODID:-//hacksw/handcal//NONSGML v1.0//EN
BEGIN:VEVENT
UID:17865
DTSTART;VALUE=DATE:20240301
URL;VALUE=URI:ohschonhell.at/?page_id=39671
SUMMARY:Eventeinträge Scheduled: 28.03.2024 at 19:30 to 20:30
LOCATION:Black Market
END:VEVENT
END:VCALENDAR


