BEGIN:VCALENDAR
VERSION:2.0
PRODID:-//hacksw/handcal//NONSGML v1.0//EN
BEGIN:VEVENT
UID:17866
DTSTART;VALUE=DATE:20240401
URL;VALUE=URI:ohschonhell.at/?page_id=39674
SUMMARY:AFTERHOUR mit CITIZEN FOUR & KRAUSKLANG
LOCATION:Black Market
END:VEVENT
END:VCALENDAR


