BEGIN:VCALENDAR
VERSION:2.0
PRODID:-//hacksw/handcal//NONSGML v1.0//EN
BEGIN:VEVENT
UID:17870
DTSTART;VALUE=DATE:20240411
URL;VALUE=URI:ohschonhell.at/?page_id=39682
SUMMARY:Acid Lambada x Donnerstag Nacht
LOCATION:SASS
END:VEVENT
END:VCALENDAR


