BEGIN:VCALENDAR
VERSION:2.0
PRODID:-//hacksw/handcal//NONSGML v1.0//EN
BEGIN:VEVENT
UID:17873
DTSTART;VALUE=DATE:20240406
URL;VALUE=URI:ohschonhell.at/?page_id=39689
SUMMARY:AFTERHOUR mit ZARAJEVOO (DE) & DR. MIND (IT)
LOCATION:Black Market
END:VEVENT
END:VCALENDAR


