BEGIN:VCALENDAR
VERSION:2.0
PRODID:-//hacksw/handcal//NONSGML v1.0//EN
BEGIN:VEVENT
UID:17874
DTSTART;VALUE=DATE:20240407
URL;VALUE=URI:ohschonhell.at/?page_id=39692
SUMMARY:SCHWARZMARKT AFTERHOUR mit DCHS & EDDIE CARUSO
LOCATION:Black Market
END:VEVENT
END:VCALENDAR


