BEGIN:VCALENDAR
VERSION:2.0
PRODID:-//hacksw/handcal//NONSGML v1.0//EN
BEGIN:VEVENT
UID:17875
DTSTART;VALUE=DATE:20240412
URL;VALUE=URI:ohschonhell.at/?page_id=39695
SUMMARY:Drumworks presents Monyu (T3K Music) @ Black Market
LOCATION:Black Market
END:VEVENT
END:VCALENDAR


