BEGIN:VCALENDAR
VERSION:2.0
PRODID:-//hacksw/handcal//NONSGML v1.0//EN
BEGIN:VEVENT
UID:17877
DTSTART;VALUE=DATE:20240414
URL;VALUE=URI:ohschonhell.at/?page_id=39702
SUMMARY:AFTERHOUR mit CRYSTAL O extended set
LOCATION:Black Market
END:VEVENT
END:VCALENDAR


