BEGIN:VCALENDAR
VERSION:2.0
PRODID:-//hacksw/handcal//NONSGML v1.0//EN
BEGIN:VEVENT
UID:17878
DTSTART;VALUE=DATE:20240420
URL;VALUE=URI:ohschonhell.at/?page_id=39705
SUMMARY:AFTERHOUR mit LEO STUSSY & FENSTER AM ECK
LOCATION:Black Market
END:VEVENT
END:VCALENDAR


