BEGIN:VCALENDAR
VERSION:2.0
PRODID:-//hacksw/handcal//NONSGML v1.0//EN
BEGIN:VEVENT
UID:17879
DTSTART;VALUE=DATE:20240427
URL;VALUE=URI:ohschonhell.at/?page_id=39708
SUMMARY:MIND ENTERTAINMENT AFTERHOUR mit KLANGSCHLACHT & RICHARD STEINSCHLAG
LOCATION:Black Market
END:VEVENT
END:VCALENDAR


