BEGIN:VCALENDAR
VERSION:2.0
PRODID:-//hacksw/handcal//NONSGML v1.0//EN
BEGIN:VEVENT
UID:17880
DTSTART;VALUE=DATE:20240428
URL;VALUE=URI:ohschonhell.at/?page_id=39711
SUMMARY:NINE O NINE AFTERHOUR mit ALBIN BREZLAN & HUEBL
LOCATION:Black Market
END:VEVENT
END:VCALENDAR


