BEGIN:VCALENDAR
VERSION:2.0
PRODID:-//hacksw/handcal//NONSGML v1.0//EN
BEGIN:VEVENT
UID:17883
DTSTART;VALUE=DATE:20240413
URL;VALUE=URI:ohschonhell.at/?page_id=39717
SUMMARY:Wiener Mischung x Kramladen x LizN &amp\; Jodok BBash
LOCATION:Kramladen
END:VEVENT
END:VCALENDAR


