BEGIN:VCALENDAR
VERSION:2.0
PRODID:-//hacksw/handcal//NONSGML v1.0//EN
BEGIN:VEVENT
UID:17898
DTSTART;VALUE=DATE:20240622
URL;VALUE=URI:ohschonhell.at/?page_id=39748
SUMMARY:Step Forward pres. Partiboi69
LOCATION:GRELLE FORELLE
END:VEVENT
END:VCALENDAR


