BEGIN:VCALENDAR
VERSION:2.0
PRODID:-//hacksw/handcal//NONSGML v1.0//EN
BEGIN:VEVENT
UID:17899
DTSTART;VALUE=DATE:20240412
URL;VALUE=URI:ohschonhell.at/?page_id=39750
SUMMARY:808Factory w/ SHOKI287 & Lenny Fuck
LOCATION:FLEX
END:VEVENT
END:VCALENDAR


