BEGIN:VCALENDAR
VERSION:2.0
PRODID:-//hacksw/handcal//NONSGML v1.0//EN
BEGIN:VEVENT
UID:17901
DTSTART;VALUE=DATE:20240419
URL;VALUE=URI:ohschonhell.at/?page_id=39754
SUMMARY:BIONIC RITUAL - Bicycle Day w/ Kala\, Anthill\, Nocturnes Creatures\, Crispy Chaos Floor
LOCATION:FLEX
END:VEVENT
END:VCALENDAR


