BEGIN:VCALENDAR
VERSION:2.0
PRODID:-//hacksw/handcal//NONSGML v1.0//EN
BEGIN:VEVENT
UID:17902
DTSTART;VALUE=DATE:20240420
URL;VALUE=URI:ohschonhell.at/?page_id=39756
SUMMARY:808Factory w/ Qnoe\, Uncle F\, KAT ZE\, Blechhütte // Flex
LOCATION:FLEX
END:VEVENT
END:VCALENDAR


