BEGIN:VCALENDAR
VERSION:2.0
PRODID:-//hacksw/handcal//NONSGML v1.0//EN
BEGIN:VEVENT
UID:17903
DTSTART;VALUE=DATE:20240427
URL;VALUE=URI:ohschonhell.at/?page_id=39758
SUMMARY:Switch! pres. Break Away Warm Up feat. Captain Bass\, DJ Phantasy\, MC Skywalker\, DJ Ollie
LOCATION:FLEX
END:VEVENT
END:VCALENDAR


