BEGIN:VCALENDAR
VERSION:2.0
PRODID:-//hacksw/handcal//NONSGML v1.0//EN
BEGIN:VEVENT
UID:17904
DTSTART;VALUE=DATE:20240430
URL;VALUE=URI:ohschonhell.at/?page_id=39760
SUMMARY:The HIVE Presents: Phibes and Screamarts
LOCATION:FLEX
END:VEVENT
END:VCALENDAR


