BEGIN:VCALENDAR
VERSION:2.0
PRODID:-//hacksw/handcal//NONSGML v1.0//EN
BEGIN:VEVENT
UID:17925
DTSTART;VALUE=DATE:20240412
URL;VALUE=URI:ohschonhell.at/?page_id=39804
SUMMARY:Toy Tonics Jam Vienna hosted by LuvAffair
LOCATION:FLUCC
END:VEVENT
END:VCALENDAR


