BEGIN:VCALENDAR
VERSION:2.0
PRODID:-//hacksw/handcal//NONSGML v1.0//EN
BEGIN:VEVENT
UID:17926
DTSTART;VALUE=DATE:20240413
URL;VALUE=URI:ohschonhell.at/?page_id=39806
SUMMARY:Rhythm Science x Wildt
LOCATION:SASS
END:VEVENT
END:VCALENDAR


