BEGIN:VCALENDAR
VERSION:2.0
PRODID:-//hacksw/handcal//NONSGML v1.0//EN
BEGIN:VEVENT
UID:17931
DTSTART;VALUE=DATE:20240427
URL;VALUE=URI:ohschonhell.at/?page_id=39816
SUMMARY:RAW Session #3
LOCATION:Der Ponyhof
END:VEVENT
END:VCALENDAR


