BEGIN:VCALENDAR
VERSION:2.0
PRODID:-//hacksw/handcal//NONSGML v1.0//EN
BEGIN:VEVENT
UID:17936
DTSTART;VALUE=DATE:20240427
URL;VALUE=URI:ohschonhell.at/?page_id=39828
SUMMARY:TECHNO ENTGLEIST | GRELLE FORELLE
LOCATION:GRELLE FORELLE
END:VEVENT
END:VCALENDAR


