BEGIN:VCALENDAR
VERSION:2.0
PRODID:-//hacksw/handcal//NONSGML v1.0//EN
BEGIN:VEVENT
UID:17937
DTSTART;VALUE=DATE:20240430
URL;VALUE=URI:ohschonhell.at/?page_id=39830
SUMMARY:F*CKEN PLUS – Mayday Maygerparty w/ Ferdinger (Paris)
LOCATION:GRELLE FORELLE
END:VEVENT
END:VCALENDAR


