BEGIN:VCALENDAR
VERSION:2.0
PRODID:-//hacksw/handcal//NONSGML v1.0//EN
BEGIN:VEVENT
UID:17940
DTSTART;VALUE=DATE:20240529
URL;VALUE=URI:ohschonhell.at/?page_id=39836
SUMMARY:Impulse w/ Vendex
LOCATION:GRELLE FORELLE
END:VEVENT
END:VCALENDAR


