BEGIN:VCALENDAR
VERSION:2.0
PRODID:-//hacksw/handcal//NONSGML v1.0//EN
BEGIN:VEVENT
UID:17941
DTSTART;VALUE=DATE:20240525
URL;VALUE=URI:ohschonhell.at/?page_id=39838
SUMMARY:Paradies Garten Festival 2024 Launch Party w/ u.r.trax
LOCATION:GRELLE FORELLE
END:VEVENT
END:VCALENDAR


