BEGIN:VCALENDAR
VERSION:2.0
PRODID:-//hacksw/handcal//NONSGML v1.0//EN
BEGIN:VEVENT
UID:1795
DTSTART;VALUE=DATE:20140822
URL;VALUE=URI:ohschonhell.at/?page_id=4402
SUMMARY:Sun Experience &amp\; Kajola B-day Bash @ CAMERA CLUB
LOCATION:CAMERA CLUB
END:VEVENT
END:VCALENDAR


