BEGIN:VCALENDAR
VERSION:2.0
PRODID:-//hacksw/handcal//NONSGML v1.0//EN
BEGIN:VEVENT
UID:17950
DTSTART;VALUE=DATE:20240419
URL;VALUE=URI:ohschonhell.at/?page_id=39856
SUMMARY:UPD8E pres. IAMDOOMED B2B M:FX (DARKMTTR/DELTA 9 - AT)
LOCATION:RHIZ
END:VEVENT
END:VCALENDAR


