BEGIN:VCALENDAR
VERSION:2.0
PRODID:-//hacksw/handcal//NONSGML v1.0//EN
BEGIN:VEVENT
UID:17953
DTSTART;VALUE=DATE:20240504
URL;VALUE=URI:ohschonhell.at/?page_id=39862
SUMMARY:TECHNOLOG
LOCATION:Kramladen
END:VEVENT
END:VCALENDAR


