BEGIN:VCALENDAR
VERSION:2.0
PRODID:-//hacksw/handcal//NONSGML v1.0//EN
BEGIN:VEVENT
UID:17954
DTSTART;VALUE=DATE:20240504
URL;VALUE=URI:ohschonhell.at/?page_id=39864
SUMMARY:Garten von Eben – Kapitel IV: Wurzeln der Zeit
LOCATION:FLUCC
END:VEVENT
END:VCALENDAR


