BEGIN:VCALENDAR
VERSION:2.0
PRODID:-//hacksw/handcal//NONSGML v1.0//EN
BEGIN:VEVENT
UID:17955
DTSTART;VALUE=DATE:20240518
URL;VALUE=URI:ohschonhell.at/?page_id=39866
SUMMARY:CONTRAST pres. HALOGENIX + LENZMAN + MONRROE + WINGZ | 18+
LOCATION:GRELLE FORELLE
END:VEVENT
END:VCALENDAR


