BEGIN:VCALENDAR
VERSION:2.0
PRODID:-//hacksw/handcal//NONSGML v1.0//EN
BEGIN:VEVENT
UID:17960
DTSTART;VALUE=DATE:20240503
URL;VALUE=URI:ohschonhell.at/?page_id=39876
SUMMARY:LOVE AT THE FIRST RIDE
LOCATION:Der Ponyhof
END:VEVENT
END:VCALENDAR


