BEGIN:VCALENDAR
VERSION:2.0
PRODID:-//hacksw/handcal//NONSGML v1.0//EN
BEGIN:VEVENT
UID:17967
DTSTART;VALUE=DATE:20240430
URL;VALUE=URI:ohschonhell.at/?page_id=39891
SUMMARY:LÄNDLE TAKEOVER
LOCATION:SASS
END:VEVENT
END:VCALENDAR


