BEGIN:VCALENDAR
VERSION:2.0
PRODID:-//hacksw/handcal//NONSGML v1.0//EN
BEGIN:VEVENT
UID:17971
DTSTART;VALUE=DATE:20240504
URL;VALUE=URI:ohschonhell.at/?page_id=39901
SUMMARY:AFTERHOUR mit TR0NIC & KRAUSKLANG
LOCATION:Black Market
END:VEVENT
END:VCALENDAR


