BEGIN:VCALENDAR
VERSION:2.0
PRODID:-//hacksw/handcal//NONSGML v1.0//EN
BEGIN:VEVENT
UID:17972
DTSTART;VALUE=DATE:20240505
URL;VALUE=URI:ohschonhell.at/?page_id=39904
SUMMARY:VIENNA TECHNO MAFIA AFTERHOUR mit MANU & SAN THIAGO
LOCATION:Black Market
END:VEVENT
END:VCALENDAR


