BEGIN:VCALENDAR
VERSION:2.0
PRODID:-//hacksw/handcal//NONSGML v1.0//EN
BEGIN:VEVENT
UID:17977
DTSTART;VALUE=DATE:20240509
URL;VALUE=URI:ohschonhell.at/?page_id=39915
SUMMARY:AFTERHOUR mit DADAJACK & ALTROY JEROME
LOCATION:Black Market
END:VEVENT
END:VCALENDAR


