BEGIN:VCALENDAR
VERSION:2.0
PRODID:-//hacksw/handcal//NONSGML v1.0//EN
BEGIN:VEVENT
UID:17978
DTSTART;VALUE=DATE:20240511
URL;VALUE=URI:ohschonhell.at/?page_id=39918
SUMMARY:AFTERHOUR mit HERBRIDO (DE) & DANNY MURANO
LOCATION:Black Market
END:VEVENT
END:VCALENDAR


