BEGIN:VCALENDAR
VERSION:2.0
PRODID:-//hacksw/handcal//NONSGML v1.0//EN
BEGIN:VEVENT
UID:17979
DTSTART;VALUE=DATE:20240512
URL;VALUE=URI:ohschonhell.at/?page_id=39921
SUMMARY:WIENER MISCHUNG AFTERHOUR mit JODOK\, JULIAN MEINKE & LOLA REX
LOCATION:Black Market
END:VEVENT
END:VCALENDAR


