BEGIN:VCALENDAR
VERSION:2.0
PRODID:-//hacksw/handcal//NONSGML v1.0//EN
BEGIN:VEVENT
UID:17980
DTSTART;VALUE=DATE:20240518
URL;VALUE=URI:ohschonhell.at/?page_id=39924
SUMMARY:AFTERHOUR SPECIAL mit STEPHAN KRUS (IT) & JOHANNES HAIDIN
LOCATION:Black Market
END:VEVENT
END:VCALENDAR


