BEGIN:VCALENDAR
VERSION:2.0
PRODID:-//hacksw/handcal//NONSGML v1.0//EN
BEGIN:VEVENT
UID:17981
DTSTART;VALUE=DATE:20240519
URL;VALUE=URI:ohschonhell.at/?page_id=39927
SUMMARY:BONNIE NEWCOMER AFTERHOUR w/ INA SÜßSOUR\, STELLA SKY & EVA KEIFENHEIM
LOCATION:Black Market
END:VEVENT
END:VCALENDAR


