BEGIN:VCALENDAR
VERSION:2.0
PRODID:-//hacksw/handcal//NONSGML v1.0//EN
BEGIN:VEVENT
UID:17982
DTSTART;VALUE=DATE:20240520
URL;VALUE=URI:ohschonhell.at/?page_id=39930
SUMMARY:AFTERHOUR mit CHRIS MARE-S extended hybrid set
LOCATION:Black Market
END:VEVENT
END:VCALENDAR


