BEGIN:VCALENDAR
VERSION:2.0
PRODID:-//hacksw/handcal//NONSGML v1.0//EN
BEGIN:VEVENT
UID:17983
DTSTART;VALUE=DATE:20240526
URL;VALUE=URI:ohschonhell.at/?page_id=39933
SUMMARY:AFTERHOUR mit CED b2b KRETA
LOCATION:Black Market
END:VEVENT
END:VCALENDAR


