BEGIN:VCALENDAR
VERSION:2.0
PRODID:-//hacksw/handcal//NONSGML v1.0//EN
BEGIN:VEVENT
UID:17984
DTSTART;VALUE=DATE:20240530
URL;VALUE=URI:ohschonhell.at/?page_id=39936
SUMMARY:AFTERHOUR mit KRAUSKLANG & MADWIN
LOCATION:Black Market
END:VEVENT
END:VCALENDAR


