BEGIN:VCALENDAR
VERSION:2.0
PRODID:-//hacksw/handcal//NONSGML v1.0//EN
BEGIN:VEVENT
UID:1799
DTSTART;VALUE=DATE:20140808
URL;VALUE=URI:ohschonhell.at/?page_id=4406
SUMMARY:HEAVEN Vienna Summer Special
LOCATION:SÄULENHALLE
END:VEVENT
END:VCALENDAR


