BEGIN:VCALENDAR
VERSION:2.0
PRODID:-//hacksw/handcal//NONSGML v1.0//EN
BEGIN:VEVENT
UID:18003
DTSTART;VALUE=DATE:20240525
URL;VALUE=URI:ohschonhell.at/?page_id=39976
SUMMARY:MIND ENTERTAINMENT AFTERHOUR mit RICHARD STEINSCHLAG & FRIENDS
LOCATION:Black Market
END:VEVENT
END:VCALENDAR


