BEGIN:VCALENDAR
VERSION:2.0
PRODID:-//hacksw/handcal//NONSGML v1.0//EN
BEGIN:VEVENT
UID:18008
DTSTART;VALUE=DATE:20240516
URL;VALUE=URI:ohschonhell.at/?page_id=39986
SUMMARY:Acid Lambada x Donnerstag Nacht
LOCATION:SASS
END:VEVENT
END:VCALENDAR


