BEGIN:VCALENDAR
VERSION:2.0
PRODID:-//hacksw/handcal//NONSGML v1.0//EN
BEGIN:VEVENT
UID:18017
DTSTART;VALUE=DATE:20240518
URL;VALUE=URI:ohschonhell.at/?page_id=40011
SUMMARY:G.SPOT „Ladies on decks Rhythmen“
LOCATION:Der Ponyhof
END:VEVENT
END:VCALENDAR


