BEGIN:VCALENDAR
VERSION:2.0
PRODID:-//hacksw/handcal//NONSGML v1.0//EN
BEGIN:VEVENT
UID:18022
DTSTART;VALUE=DATE:20240517
URL;VALUE=URI:ohschonhell.at/?page_id=40021
SUMMARY:VIBRANT
LOCATION:SASS
END:VEVENT
END:VCALENDAR


